BEGIN:VCALENDAR
VERSION:2.0
PRODID:-//Squarespace Inc/Squarespace 6//v6//EN
BEGIN:VEVENT
UID:5d38e1f98fdd8300011fb3d6@squarespace.com
DTSTAMP:20190724T225630Z
DTSTART:20200524T040000Z
DTEND:20200524T060000Z
SUMMARY:WBLSC AGM
END:VEVENT
END:VCALENDAR
