BEGIN:VCALENDAR
VERSION:2.0
PRODID:-//Squarespace Inc/Squarespace 6//v6//EN
BEGIN:VEVENT
UID:5d38e19f8fdd8300011fa90d@squarespace.com
DTSTAMP:20190724T225528Z
DTSTART:20200405T040000Z
DTEND:20200405T060000Z
SUMMARY:WBLSC Prize Giving
END:VEVENT
END:VCALENDAR
