BEGIN:VCALENDAR
VERSION:2.0
PRODID:-//Squarespace Inc/Squarespace 6//v6//EN
BEGIN:VEVENT
UID:5c3e55d1cd83667595110f22@squarespace.com
DTSTAMP:20190115T215230Z
DTSTART:20200306T220000Z
DTEND:20200308T133000Z
SUMMARY:Venue Booked
END:VEVENT
END:VCALENDAR
