BEGIN:VCALENDAR
VERSION:2.0
PRODID:-//Squarespace Inc/Squarespace 6//v6//EN
BEGIN:VEVENT
UID:5dbd040b7d73c16ddb4870f6@squarespace.com
DTSTAMP:20191102T042108Z
DTSTART:20200214T200000Z
DTEND:20200214T234500Z
SUMMARY:Venue Booked
END:VEVENT
END:VCALENDAR
