BEGIN:VCALENDAR
VERSION:2.0
PRODID:-//Squarespace Inc/Squarespace 6//v6//EN
BEGIN:VEVENT
UID:5d6250f257871b000135a34a@squarespace.com
DTSTAMP:20190825T091256Z
DTSTART:20200125T000000Z
DTEND:20200125T203000Z
SUMMARY:Venue Booked
END:VEVENT
END:VCALENDAR
