BEGIN:VCALENDAR
VERSION:2.0
PRODID:-//Squarespace Inc/Squarespace 6//v6//EN
BEGIN:VEVENT
UID:5dfdb23996c1db55a0bf9fa6@squarespace.com
DTSTAMP:20191221T054919Z
DTSTART:20191231T220000Z
DTEND:20200101T030000Z
SUMMARY:Venue Booked
END:VEVENT
END:VCALENDAR
