BEGIN:VCALENDAR
VERSION:2.0
PRODID:-//Squarespace Inc/Squarespace 6//v6//EN
BEGIN:VEVENT
UID:5caa95b5e2c48381dbb902be@squarespace.com
DTSTAMP:20190408T002910Z
DTSTART:20190906T200000Z
DTEND:20190908T060000Z
SUMMARY:Venue Booked
END:VEVENT
END:VCALENDAR
