BEGIN:VCALENDAR
VERSION:2.0
PRODID:-//Squarespace Inc/Squarespace 6//v6//EN
BEGIN:VEVENT
UID:5caa95766e9a7f4f2c491b7b@squarespace.com
DTSTAMP:20190408T002818Z
DTSTART:20190920T200000Z
DTEND:20190922T060000Z
SUMMARY:Venue Booked
END:VEVENT
END:VCALENDAR
