BEGIN:VCALENDAR
VERSION:2.0
PRODID:-//Squarespace Inc/Squarespace 6//v6//EN
BEGIN:VEVENT
UID:5caa94fcf4e1fc950f2298ed@squarespace.com
DTSTAMP:20190408T002705Z
DTSTART:20190913T200000Z
DTEND:20190915T060000Z
SUMMARY:Venue Booked
END:VEVENT
END:VCALENDAR
