BEGIN:VCALENDAR
VERSION:2.0
PRODID:-//Squarespace Inc/Squarespace 6//v6//EN
BEGIN:VEVENT
UID:5caa94c4652deac333aae1ae@squarespace.com
DTSTAMP:20190408T002520Z
DTSTART:20190831T200000Z
DTEND:20190901T060000Z
SUMMARY:WBLSC Club Day
END:VEVENT
END:VCALENDAR
