BEGIN:VCALENDAR
VERSION:2.0
PRODID:-//Squarespace Inc/Squarespace 6//v6//EN
BEGIN:VEVENT
UID:5d4b5bb4f29ccc0001a2077f@squarespace.com
DTSTAMP:20190807T231637Z
DTSTART:20190810T000000Z
DTEND:20190810T050000Z
SUMMARY:Venue Booked
END:VEVENT
END:VCALENDAR
