BEGIN:VCALENDAR
VERSION:2.0
PRODID:-//Squarespace Inc/Squarespace 6//v6//EN
BEGIN:VEVENT
UID:5c5208117ba7fc6a6a724879@squarespace.com
DTSTAMP:20190130T202522Z
DTSTART:20190503T130000Z
DTEND:20190504T220000Z
SUMMARY:Venue Booked
END:VEVENT
END:VCALENDAR
