BEGIN:VCALENDAR
VERSION:2.0
PRODID:-//Squarespace Inc/Squarespace 6//v6//EN
BEGIN:VEVENT
UID:5c9564bc4192028641ad8582@squarespace.com
DTSTAMP:20190322T224249Z
DTSTART:20190526T060000Z
DTEND:20190526T100000Z
SUMMARY:WBLSC AGM
END:VEVENT
END:VCALENDAR
