BEGIN:VCALENDAR
VERSION:2.0
PRODID:-//Squarespace Inc/Squarespace 6//v6//EN
BEGIN:VEVENT
UID:5ca1b382419202131e8adce0@squarespace.com
DTSTAMP:20190401T064554Z
DTSTART:20190524T130000Z
DTEND:20190525T050000Z
SUMMARY:Venue Booked
END:VEVENT
END:VCALENDAR
