BEGIN:VCALENDAR
VERSION:2.0
PRODID:-//Squarespace Inc/Squarespace 6//v6//EN
BEGIN:VEVENT
UID:5c733bff6e9a7f1fd2a626ca@squarespace.com
DTSTAMP:20190225T005142Z
DTSTART:20190511T010000Z
DTEND:20190511T223000Z
SUMMARY:Venue Booked
END:VEVENT
END:VCALENDAR
