BEGIN:VCALENDAR
VERSION:2.0
PRODID:-//Squarespace Inc/Squarespace 6//v6//EN
BEGIN:VEVENT
UID:5c6f56726e9a7f35d6cf09b8@squarespace.com
DTSTAMP:20190222T015613Z
DTSTART:20190406T213000Z
DTEND:20190407T060000Z
SUMMARY:WBLSC Club Prize Giving 
END:VEVENT
END:VCALENDAR
