BEGIN:VCALENDAR
VERSION:2.0
PRODID:-//Squarespace Inc/Squarespace 6//v6//EN
BEGIN:VEVENT
UID:5b8475834fa51a3d560c8537@squarespace.com
DTSTAMP:20190131T223342Z
DTSTART:20190427T010000Z
DTEND:20190427T213000Z
SUMMARY:Venue Booked
END:VEVENT
END:VCALENDAR
