BEGIN:VCALENDAR
VERSION:2.0
PRODID:-//Squarespace Inc/Squarespace 6//v6//EN
BEGIN:VEVENT
UID:5c92c2e553450af2278022d4@squarespace.com
DTSTAMP:20190320T224755Z
DTSTART:20190420T000000Z
DTEND:20190426T100000Z
SUMMARY:Venue Booked
END:VEVENT
END:VCALENDAR
