BEGIN:VCALENDAR
VERSION:2.0
PRODID:-//Squarespace Inc/Squarespace 6//v6//EN
BEGIN:VEVENT
UID:5c875d00f4e1fce7334ef2e4@squarespace.com
DTSTAMP:20190312T071756Z
DTSTART:20190401T163000Z
DTEND:20190401T233000Z
SUMMARY:Venue Booked
END:VEVENT
END:VCALENDAR
