BEGIN:VCALENDAR
VERSION:2.0
PRODID:-//Squarespace Inc/Squarespace 6//v6//EN
BEGIN:VEVENT
UID:5c5918fb8165f5a37e3d4f25@squarespace.com
DTSTAMP:20190205T050322Z
DTSTART:20190419T010000Z
DTEND:20190419T220000Z
SUMMARY:Venue Booked
END:VEVENT
END:VCALENDAR
