BEGIN:VCALENDAR
VERSION:2.0
PRODID:-//Squarespace Inc/Squarespace 6//v6//EN
BEGIN:VEVENT
UID:5c92c2b2ee6eb0254e898489@squarespace.com
DTSTAMP:20190320T224642Z
DTSTART:20190417T220000Z
DTEND:20190418T090000Z
SUMMARY:Venue Booked
END:VEVENT
END:VCALENDAR
