BEGIN:VCALENDAR
VERSION:2.0
PRODID:-//Squarespace Inc/Squarespace 6//v6//EN
BEGIN:VEVENT
UID:5ca0f00b24a6942251d9f7cc@squarespace.com
DTSTAMP:20190331T165159Z
DTSTART:20190415T200000Z
DTEND:20190416T060000Z
SUMMARY:Venue Booked by WBLSC
END:VEVENT
END:VCALENDAR
