BEGIN:VCALENDAR
VERSION:2.0
PRODID:-//Squarespace Inc/Squarespace 6//v6//EN
BEGIN:VEVENT
UID:5ab6b9521ae6cfa0dada24e3@squarespace.com
DTSTAMP:20190131T223135Z
DTSTART:20190329T220000Z
DTEND:20190330T203000Z
SUMMARY:Venue Booked
END:VEVENT
END:VCALENDAR
