BEGIN:VCALENDAR
VERSION:2.0
PRODID:-//Squarespace Inc/Squarespace 6//v6//EN
BEGIN:VEVENT
UID:5c5375ee104c7b65a82d164c@squarespace.com
DTSTAMP:20190131T222627Z
DTSTART:20190228T190000Z
DTEND:20190301T070000Z
SUMMARY:Venue Booked
END:VEVENT
END:VCALENDAR
