BEGIN:VCALENDAR
VERSION:2.0
PRODID:-//Squarespace Inc/Squarespace 6//v6//EN
BEGIN:VEVENT
UID:5bac3c49b208fc85417cdee3@squarespace.com
DTSTAMP:20190131T224038Z
DTSTART:20190210T190000Z
DTEND:20190211T013000Z
SUMMARY:Beach Education
END:VEVENT
END:VCALENDAR
