BEGIN:VCALENDAR
VERSION:2.0
PRODID:-//Squarespace Inc/Squarespace 6//v6//EN
BEGIN:VEVENT
UID:5c5374f70d9297578afaa387@squarespace.com
DTSTAMP:20190131T222213Z
DTSTART:20190208T210000Z
DTEND:20190209T203000Z
SUMMARY:Venue Booked
END:VEVENT
END:VCALENDAR
