BEGIN:VCALENDAR
VERSION:2.0
PRODID:-//Squarespace Inc/Squarespace 6//v6//EN
BEGIN:VEVENT
UID:5c5378651905f4110f676371@squarespace.com
DTSTAMP:20190131T223702Z
DTSTART:20190220T190000Z
DTEND:20190221T013000Z
SUMMARY:Beach Education
END:VEVENT
END:VCALENDAR
