BEGIN:VCALENDAR
VERSION:2.0
PRODID:-//Squarespace Inc/Squarespace 6//v6//EN
BEGIN:VEVENT
UID:5b73ba940e2e72e74a681fa0@squarespace.com
DTSTAMP:20180815T053204Z
DTSTART:20190216T180000Z
DTEND:20190217T143000Z
SUMMARY:Venue Booked
END:VEVENT
END:VCALENDAR
