BEGIN:VCALENDAR
VERSION:2.0
PRODID:-//Squarespace Inc/Squarespace 6//v6//EN
BEGIN:VEVENT
UID:5c53756ce79c7040b000732a@squarespace.com
DTSTAMP:20190131T222416Z
DTSTART:20190216T000000Z
DTEND:20190217T083000Z
SUMMARY:Venue Booked
END:VEVENT
END:VCALENDAR
