BEGIN:VCALENDAR
VERSION:2.0
PRODID:-//Squarespace Inc/Squarespace 6//v6//EN
BEGIN:VEVENT
UID:5c5378a353450a94a9d20423@squarespace.com
DTSTAMP:20190131T223751Z
DTSTART:20190213T190000Z
DTEND:20190214T013000Z
SUMMARY:Beach Education
END:VEVENT
END:VCALENDAR
