BEGIN:VCALENDAR
VERSION:2.0
PRODID:-//Squarespace Inc/Squarespace 6//v6//EN
BEGIN:VEVENT
UID:5c537910c830259a0af0338e@squarespace.com
DTSTAMP:20190131T223948Z
DTSTART:20190211T190000Z
DTEND:20190212T013000Z
SUMMARY:Beach Education
END:VEVENT
END:VCALENDAR
