BEGIN:VCALENDAR
VERSION:2.0
PRODID:-//Squarespace Inc/Squarespace 6//v6//EN
BEGIN:VEVENT
UID:5d4c9c05d648700001c890b1@squarespace.com
DTSTAMP:20190808T220338Z
DTSTART:20191206T050000Z
DTEND:20191207T203000Z
SUMMARY:Venue Booked
END:VEVENT
END:VCALENDAR
