BEGIN:VCALENDAR
VERSION:2.0
PRODID:-//Squarespace Inc/Squarespace 6//v6//EN
BEGIN:VEVENT
UID:5c88bfc1e79c703af7ccb216@squarespace.com
DTSTAMP:20190313T083151Z
DTSTART:20191221T000000Z
DTEND:20191222T000000Z
SUMMARY:Venue Booked
END:VEVENT
END:VCALENDAR
