BEGIN:VCALENDAR
VERSION:2.0
PRODID:-//Squarespace Inc/Squarespace 6//v6//EN
BEGIN:VEVENT
UID:5dc3571b716a8f6671fdbae4@squarespace.com
DTSTAMP:20191106T232910Z
DTSTART:20191215T210000Z
DTEND:20191216T080000Z
SUMMARY:Venue Booked
END:VEVENT
END:VCALENDAR
