BEGIN:VCALENDAR
VERSION:2.0
PRODID:-//Squarespace Inc/Squarespace 6//v6//EN
BEGIN:VEVENT
UID:5d54acf054f2540001be3060@squarespace.com
DTSTAMP:20190815T005334Z
DTSTART:20191214T000000Z
DTEND:20191214T203000Z
SUMMARY:Venue Booked
END:VEVENT
END:VCALENDAR
