BEGIN:VCALENDAR
VERSION:2.0
PRODID:-//Squarespace Inc/Squarespace 6//v6//EN
BEGIN:VEVENT
UID:5cc64171085229d40ef29bcf@squarespace.com
DTSTAMP:20190429T001313Z
DTSTART:20191213T020000Z
DTEND:20191213T080000Z
SUMMARY:Venue Booked
END:VEVENT
END:VCALENDAR
