BEGIN:VCALENDAR
VERSION:2.0
PRODID:-//Squarespace Inc/Squarespace 6//v6//EN
BEGIN:VEVENT
UID:5d9537b6afaef17e643d0da7@squarespace.com
DTSTAMP:20191002T235055Z
DTSTART:20191103T020000Z
DTEND:20191103T053000Z
SUMMARY:Venue Booked
END:VEVENT
END:VCALENDAR
