BEGIN:VCALENDAR
VERSION:2.0
PRODID:-//Squarespace Inc/Squarespace 6//v6//EN
BEGIN:VEVENT
UID:5ae52ebc758d46d77ff675c3@squarespace.com
DTSTAMP:20180429T023322Z
DTSTART:20190105T160000Z
DTEND:20190106T143000Z
SUMMARY:Venue Booked
END:VEVENT
END:VCALENDAR
