BEGIN:VCALENDAR
VERSION:2.0
PRODID:-//Squarespace Inc/Squarespace 6//v6//EN
BEGIN:VEVENT
UID:5c40fb7ecd836649c14c5b0b@squarespace.com
DTSTAMP:20190131T221546Z
DTSTART:20190201T120000Z
DTEND:20190202T203000Z
SUMMARY:Venue Booked
END:VEVENT
END:VCALENDAR
