BEGIN:VCALENDAR
VERSION:2.0
PRODID:-//Squarespace Inc/Squarespace 6//v6//EN
BEGIN:VEVENT
UID:5c5207ad0e2e721ca49f7f55@squarespace.com
DTSTAMP:20190130T202346Z
DTSTART:20190131T061500Z
DTEND:20190131T090000Z
SUMMARY:Venue Booked
END:VEVENT
END:VCALENDAR
