BEGIN:VCALENDAR
VERSION:2.0
PRODID:-//Squarespace Inc/Squarespace 6//v6//EN
BEGIN:VEVENT
UID:5c5207792b6a284e8e9e2650@squarespace.com
DTSTAMP:20190130T202252Z
DTSTART:20190130T203000Z
DTEND:20190131T040000Z
SUMMARY:Venue Booked
END:VEVENT
END:VCALENDAR
