BEGIN:VCALENDAR
VERSION:2.0
PRODID:-//Squarespace Inc/Squarespace 6//v6//EN
BEGIN:VEVENT
UID:5c47f0144d7a9ca636310a2d@squarespace.com
DTSTAMP:20190123T044016Z
DTSTART:20190127T160000Z
DTEND:20190127T210000Z
SUMMARY:Venue Booked
END:VEVENT
END:VCALENDAR
