BEGIN:VCALENDAR
VERSION:2.0
PRODID:-//Squarespace Inc/Squarespace 6//v6//EN
BEGIN:VEVENT
UID:5b73ba4a0e2e72e74a681dc1@squarespace.com
DTSTAMP:20180815T053040Z
DTSTART:20190126T180000Z
DTEND:20190128T023000Z
SUMMARY:Venue Booked
END:VEVENT
END:VCALENDAR
