BEGIN:VCALENDAR
VERSION:2.0
PRODID:-//Squarespace Inc/Squarespace 6//v6//EN
BEGIN:VEVENT
UID:5c41605e6d2a73e98549e87f@squarespace.com
DTSTAMP:20190118T051344Z
DTSTART:20190125T003000Z
DTEND:20190125T030000Z
SUMMARY:Venue Booked
END:VEVENT
END:VCALENDAR
