BEGIN:VCALENDAR
VERSION:2.0
PRODID:-//Squarespace Inc/Squarespace 6//v6//EN
BEGIN:VEVENT
UID:5b909c6bb8a04546d213312b@squarespace.com
DTSTAMP:20180906T031916Z
DTSTART:20180929T230000Z
DTEND:20180930T000000Z
SUMMARY:WBLSC Lifesaving Event
END:VEVENT
END:VCALENDAR
