BEGIN:VCALENDAR
VERSION:2.0
PRODID:-//Squarespace Inc/Squarespace 6//v6//EN
BEGIN:VEVENT
UID:5b203a668a922d6f5da77b7f@squarespace.com
DTSTAMP:20180612T212943Z
DTSTART:20180902T123000Z
DTEND:20180902T223000Z
SUMMARY:Worser Bay Club Open Day
END:VEVENT
END:VCALENDAR
