BEGIN:VCALENDAR
VERSION:2.0
PRODID:-//Squarespace Inc/Squarespace 6//v6//EN
BEGIN:VEVENT
UID:5b15e4fa70a6ad59dcc2f627@squarespace.com
DTSTAMP:20180605T011934Z
DTSTART:20180915T180000Z
DTEND:20180916T133000Z
SUMMARY:Venue Booked
END:VEVENT
END:VCALENDAR
