BEGIN:VCALENDAR
VERSION:2.0
PRODID:-//Squarespace Inc/Squarespace 6//v6//EN
BEGIN:VEVENT
UID:5b8f94c888251bcf12c0f005@squarespace.com
DTSTAMP:20180905T083503Z
DTSTART:20180913T133000Z
DTEND:20180913T160000Z
SUMMARY:Venue Booked
END:VEVENT
END:VCALENDAR
