BEGIN:VCALENDAR
VERSION:2.0
PRODID:-//Squarespace Inc/Squarespace 6//v6//EN
BEGIN:VEVENT
UID:5b20bc2b88251bf271916371@squarespace.com
DTSTAMP:20180613T064025Z
DTSTART:20180728T160000Z
DTEND:20180729T133000Z
SUMMARY:Venue Booked
END:VEVENT
END:VCALENDAR
