BEGIN:VCALENDAR
VERSION:2.0
PRODID:-//Squarespace Inc/Squarespace 6//v6//EN
BEGIN:VEVENT
UID:5af7d4c970a6adc5dc18e694@squarespace.com
DTSTAMP:20180513T060229Z
DTSTART:20180714T170000Z
DTEND:20180714T210000Z
SUMMARY:Venue Booked
END:VEVENT
END:VCALENDAR
